View In:
ArcGIS JavaScript
ArcGIS Online Map Viewer
ArcGIS Earth
ArcGIS Pro
Service Description: Provides context for a wide range of people and supports a variety of application needs within a local government. The layers in this basemap provide context for multiple workflows, such as editing data or producing web maps. It includes structures, roads, major facilities, water features, and boundaries.
Map Name: Layers
Legend
All Layers and Tables
Dynamic Legend
Dynamic All Layers
Layers:
Description: Provides context for a wide range of people and supports a variety of application needs within a local government. The layers in this basemap provide context for multiple workflows, such as editing data or producing web maps. It includes structures, roads, major facilities, water features, and boundaries.
Service Item Id: 121ced637ccf45c9a7270efdfd878057
Copyright Text: Esri., Inc., City of Naperville, Illinois
Spatial Reference:
102738
(2276)
LatestVCSWkid(0)
Single Fused Map Cache: true
Tile Info:
- Height: 256
- Width: 256
- DPI: 96
-
Levels of Detail: 19
-
Level ID: 0
[ Start Tile, End Tile ]
- Resolution: 979498.3233422163
- Scale: 1.1283843252588837E9
-
Level ID: 1
[ Start Tile, End Tile ]
- Resolution: 489749.16167110816
- Scale: 5.641921626294419E8
-
Level ID: 2
[ Start Tile, End Tile ]
- Resolution: 244874.58083555408
- Scale: 2.820960813147209E8
-
Level ID: 3
[ Start Tile, End Tile ]
- Resolution: 122437.29041777704
- Scale: 1.4104804065736046E8
-
Level ID: 4
[ Start Tile, End Tile ]
- Resolution: 61218.64520888852
- Scale: 7.052402032868023E7
-
Level ID: 5
[ Start Tile, End Tile ]
- Resolution: 30609.32260444426
- Scale: 3.5262010164340116E7
-
Level ID: 6
[ Start Tile, End Tile ]
- Resolution: 15304.66130222213
- Scale: 1.7631005082170058E7
-
Level ID: 7
[ Start Tile, End Tile ]
- Resolution: 7652.330651111065
- Scale: 8815502.541085029
-
Level ID: 8
[ Start Tile, End Tile ]
- Resolution: 3826.1653255555325
- Scale: 4407751.2705425145
-
Level ID: 9
[ Start Tile, End Tile ]
- Resolution: 1913.0826627777662
- Scale: 2203875.6352712573
-
Level ID: 10
[ Start Tile, End Tile ]
- Resolution: 956.5413313888831
- Scale: 1101937.8176356286
-
Level ID: 11
[ Start Tile, End Tile ]
- Resolution: 478.27066569444156
- Scale: 550968.9088178143
-
Level ID: 12
[ Start Tile, End Tile ]
- Resolution: 239.13533284722078
- Scale: 275484.45440890716
-
Level ID: 13
[ Start Tile, End Tile ]
- Resolution: 119.56766642361039
- Scale: 137742.22720445358
-
Level ID: 14
[ Start Tile, End Tile ]
- Resolution: 59.783833211805195
- Scale: 68871.11360222679
-
Level ID: 15
[ Start Tile, End Tile ]
- Resolution: 29.891916605902598
- Scale: 34435.556801113395
-
Level ID: 16
[ Start Tile, End Tile ]
- Resolution: 14.945958302951299
- Scale: 17217.778400556697
-
Level ID: 17
[ Start Tile, End Tile ]
- Resolution: 7.472979151475649
- Scale: 8608.889200278349
-
Level ID: 18
[ Start Tile, End Tile ]
- Resolution: 3.7364895757378247
- Scale: 4304.444600139174
- Format: Mixed
- Compression Quality: 75.0
- Origin: X: -1.2340728538780369E8
Y: 1.1085021694596112E8
- Spatial Reference: 102738
(2276)
LatestVCSWkid(0)
Storage Info:
- Storage Format: esriMapCacheStorageModeCompactV2
- Packet Size: 128
Initial Extent:
XMin: 2390745.7812746875
YMin: 7093523.52547727
XMax: 2426967.4059219463
YMax: 7111704.868874423
Spatial Reference: 102738
(2276)
LatestVCSWkid(0)
Full Extent:
XMin: 2370649.756443979
YMin: 7074935.607281424
XMax: 2442259.3910282045
YMax: 7128742.965955983
Spatial Reference: 102738
(2276)
LatestVCSWkid(0)
Units: esriFeet
Supported Image Format Types: PNG32,PNG24,PNG,JPG,DIB,TIFF,EMF,PS,PDF,GIF,SVG,SVGZ,BMP
Document Info:
Title: Layers
Author:
Comments: Provides context for a wide range of people and supports a variety of application needs within a local government. The layers in this basemap provide context for multiple workflows, such as editing data or producing web maps. It includes structures, roads, major facilities, water features, and boundaries.
Subject: The General Purpose basemap provides context for a wide range of people and supports a variety of application needs within a local government.
Category:
Keywords: General Purpose,Basemap
AntialiasingMode: Fast
TextAntialiasingMode: Force
Supports Dynamic Layers: true
MaxRecordCount: 2000
MaxImageHeight: 4096
MaxImageWidth: 4096
Supported Query Formats: JSON, geoJSON, PBF
Supports Query Data Elements: true
Min Scale: 137742.22720445358
Max Scale: 4304.444600139174
Min LOD: 13
Max LOD: 18
Supports Datum Transformation: true
Child Resources:
Info
Dynamic Layer
Supported Operations:
Export Map
Identify
QueryLegends
QueryDomains
Find
Return Updates